BEGIN:VCALENDAR
VERSION:2.0
PRODID:spatie/icalendar-generator
DESCRIPTION:Veranstaltungen von Förderverein Kindertagesstätte Weltentdec
 ker e.V.
X-WR-CALDESC:Veranstaltungen von Förderverein Kindertagesstätte Weltentde
 cker e.V.
REFRESH-INTERVAL;VALUE=DURATION:PT1440M
X-PUBLISHED-TTL:PT1440M
BEGIN:VTIMEZONE
TZID:Europe/Berlin
BEGIN:STANDARD
DTSTART:20251026T030000Z
TZOFFSETFROM:+0200
TZOFFSETTO:+0100
END:STANDARD
BEGIN:DAYLIGHT
DTSTART:20260329T020000Z
TZOFFSETFROM:+0100
TZOFFSETTO:+0200
END:DAYLIGHT
BEGIN:STANDARD
DTSTART:20261025T030000Z
TZOFFSETFROM:+0200
TZOFFSETTO:+0100
END:STANDARD
END:VTIMEZONE
BEGIN:VTIMEZONE
TZID:UTC
BEGIN:STANDARD
DTSTART:20250725T132453Z
TZOFFSETFROM:+0000
TZOFFSETTO:+0000
END:STANDARD
END:VTIMEZONE
BEGIN:VEVENT
UID:111-96
DTSTAMP:20260421T132453Z
SUMMARY:Damenviertelfest 2026
LOCATION:
ORGANIZER;CN=Mike Knappe:MAILTO:info@jomili.de
DTSTART;TZID=Europe/Berlin:20260501T090000
DTEND;TZID=Europe/Berlin:20260501T100000
X-ALT-DESC;FMTTYPE=TEXT/HTML:Das Damenviertelfest in Jena ist ein tradition
 elles Stadtteilsfest im Damenviertel\, einem der ältesten und lebendigste
 n Viertel Jenas. Es findet in der Regel einmal jährlich (meist im Sommer)
  statt und wird von AnwohnerInnen\, Vereinen\, lokalen Initiativen und Gew
 erbetreibenden gemeinsam organisiert. Das Fest steht für Nachbarschaft\, 
 Kultur und gelebte Gemeinschaft – und ist eines der beliebtesten Events&amp;
 hellip\;
CATEGORIES:Extern
URL;VALUE=URI:https://weltentdecker-jena.de/events/damenviertelfest-2026/
METHOD:PUBLISH
BEGIN:VALARM
ACTION:DISPLAY
DESCRIPTION:
TRIGGER:-PT120M
END:VALARM
END:VEVENT
END:VCALENDAR