BEGIN:VCALENDAR
VERSION:2.0
PRODID:spatie/icalendar-generator
DESCRIPTION:Veranstaltungen von Förderverein Kindertagesstätte Weltentdec
 ker e.V.
X-WR-CALDESC:Veranstaltungen von Förderverein Kindertagesstätte Weltentde
 cker e.V.
REFRESH-INTERVAL;VALUE=DURATION:PT1440M
X-PUBLISHED-TTL:PT1440M
BEGIN:VTIMEZONE
TZID:Europe/Berlin
BEGIN:STANDARD
DTSTART:20231029T030000Z
TZOFFSETFROM:+0200
TZOFFSETTO:+0100
END:STANDARD
BEGIN:DAYLIGHT
DTSTART:20240331T020000Z
TZOFFSETFROM:+0100
TZOFFSETTO:+0200
END:DAYLIGHT
END:VTIMEZONE
BEGIN:VTIMEZONE
TZID:UTC
BEGIN:STANDARD
DTSTART:20250728T071104Z
TZOFFSETFROM:+0000
TZOFFSETTO:+0000
END:STANDARD
END:VTIMEZONE
BEGIN:VEVENT
UID:73-31
DTSTAMP:20260424T071104Z
SUMMARY:Garteneinsatz
LOCATION:Kindergarten Weltentdecker Scharnhorststraße 1  Jena Thüringen 0
 7743
ORGANIZER;CN=Mike Knappe:MAILTO:info@jomili.de
DTSTART;TZID=Europe/Berlin:20240313T153000
DTEND;TZID=Europe/Berlin:20240313T180000
X-ALT-DESC;FMTTYPE=TEXT/HTML:Heute steht wieder die freiwillige Teilnahme a
 n unserem Garteneinsatz im Vordergrund. Um so mehr freiwilliger Helfer wir
  haben\, um so schöner können wir unser Gelände für unsere Kinder herr
 ichten.
CATEGORIES:Garteneinsatz
URL;VALUE=URI:https://weltentdecker-jena.de/events/garteneinsatz/
METHOD:PUBLISH
BEGIN:VALARM
ACTION:DISPLAY
DESCRIPTION:
TRIGGER:-PT120M
END:VALARM
END:VEVENT
END:VCALENDAR